Workbook

Sheet Schools (alphabetically)
A1: FIFE COUNCIL EDUCATIONAL PSYCHOLOGY SERVICE
A2: SCHOOL PSYCHOLOGISTS 2026/27 (as at 07.10.26)
A4: Schools and Nurseries | B4: Psychologist | C4: Centre base
A5: Aberdour PS/NS | B5: Julie McGowan | C5: West Fife
A6: Aberhill PS | B6: Aileen Bracken | C6: North & East Fife
A7: Anstruther PS/NS | B7: Pippa San Roman | C7: North & East Fife
A8: Auchmuty HS | B8: Aneith Thomas/Malcolm McGovern | C8: Central Fife
A9: Auchtermuchty PS/NS | B9: Pippa San Roman | C9: North & East Fife
A10: Auchtertool PS | B10: Kirsty Pert | C10: Central Fife
A11: Balcurvie PS/NS | B11: Aodán Fullam | C11: North & East Fife
A12: Balmerino PS/NS | B12: Pippa San Roman | C12: North & East Fife
A13: Balmullo PS/NS | B13: Aileen Bracken | C13: North & East Fife
A14: Balwearie HS | B14: Sam Hannay/Joanna Lawson | C14: Central Fife
A15: Beanstalk FNC (Fergus Place) | B15: Claire Kerr | C15: West Fife
... A183: Wormit PS | B183: Pippa San Roman | C183: North & East Fife
A185: North & East Fife Team, County Buildings, St Catherine Street, Cupar, KY15 4TA
A186: Telephone No: 01334 659327/Internal 450586
A187: central.educationalpsychologists@fife.gov.uk
A188: Vivienne Sutherland | B188: Principal Psychologist
A189: Emma Jessiman | B189: Depute Principal Psychologist (Operations)
A190: Aileen Bracken | B190: Educational Psychologist
A191: Hannah Bunce | B191: Educational Psychologist
A192: Aodán Fullam | B192: Educational Psychologist
A193: Carys Murray | B193: Educational Psychologist
A194: Pippa San Roman | B194: Educational Psychologist
A195: Marilisa Scognamiglio | B195: Educational Psychologist
A196: Hope Thompson | B196: Educational Psychologist
A198: West Fife Team, King's Road Primary School, King's Crescent, Rosyth, KY11 2RS
A199: Telephone No: 01383 602379/Internal 490061
A200: dunfermline.educationalpsychologists@fife.gov.uk
A201: Adam Brown | B201: Depute Principal Psychologist (Strategy)
A202: Jane Messer | B202: Depute Principal Psychologist (Operations)
A203: Kirsty Frost | B203: Educational Psychologist
A204: Gwen Hobbs | B204: Educational Psychologist
A205: Anna-May Hocking | B205: Educational Psychologist
A206: Claire Kerr | B206: Educational Psychologist
A207: Julie McGowan | B207: Educational Psychologist
A208: Amy Martin | B208: Educational Psychologist
A209: Joanna Miller | B209: Educational Psychologist
A210: Maria Ogg | B210: Educational Psychologist
...

Sheet Schools by Cluster
A1: FIFE COUNCIL EDUCATIONAL PSYCHOLOGY SERVICE
A2: ='Schools (alphabetically)'!A2 -> SCHOOL PSYCHOLOGISTS 2026/27 (as at 07.10.26)
A4: GLENROTHES LOCALITY
A5: Auchmuty High School Cluster
A6: Schools and Nurseries | B6: Psychologist | C6: Centre base
A7: Auchmuty HS | B7: ='Schools (alphabetically)'!B8 -> Aneith Thomas/Malcolm McGovern | C7: ='Schools (alphabetically)'!C8 -> Central Fife
A8: Carleton & Ladybird FNC | B8: ='Schools (alphabetically)'!B34 -> Kirsty Pert | C8: ='Schools (alphabetically)'!C34 -> Central Fife
A9: Carleton PS | B9: ='Schools (alphabetically)'!B35 -> Chris Hamilton | C9: ='Schools (alphabetically)'!C35 -> Central Fife
A10: Coaltown of Balgonie PS | B10: ='Schools (alphabetically)'!B43 -> Kerry Mitchell | C10: ='Schools (alphabetically)'!C43 -> Central Fife
A11: John Fergus School | B11: ='Schools (alphabetically)'!B84 -> Kerry Mitchell | C11: ='Schools (alphabetically)'!C84 -> Central Fife
A12: Markinch PS/NS | B12: ='[1]Schools (alphabetically)'!B112 -> Kirsty Pert | C12: ='Schools (alphabetically)'!C112 -> Central Fife
A13: Pitteuchar East PS/NS | B13: ='[1]Schools (alphabetically)'!B133 -> Morag Docherty | C13: ='[1]Schools (alphabetically)'!C133 -> Central Fife
A14: Pitteuchar West PS/NS | B14: ='[1]Schools (alphabetically)'!B134 -> Joanna Lawson | C14: ='[1]Schools (alphabetically)'!C134 -> Central Fife
A15: Star PS | B15: ='[1]Schools (alphabetically)'!B163 -> Kerry Mitchell | C15: ='Schools (alphabetically)'!C163 -> Central Fife
A16: Thornton PS/NS | B16: ='[1]Schools (alphabetically)'!B169 -> Linden Hampton | C16: ='[1]Schools (alphabetically)'!C169 -> Central Fife
A17: Warout PS | B17: ='Schools (alphabetically)'!B180 -> Sam Hannay | C17: ='[1]Schools (alphabetically)'!C180 -> Central Fife
A19: Glenrothes High School Cluster
A20: Schools and Nurseries | B20: Psychologist | C20: Centre base
A21: Glenrothes HS | B21: ='Schools (alphabetically)'!B74 -> Kayleigh Falls/Morag Docherty | C21: ='[1]Schools (alphabetically)'!C74 -> Central Fife
A22: Caskieberran PS/NS | B22: ='Schools (alphabetically)'!B38 -> Kayleigh Falls | C22: ='[1]Schools (alphabetically)'!C38 -> Central Fife
A23: Pitcoudie PS/NS | B23: ='[1]Schools (alphabetically)'!B128 -> Kirsty Pert | C23: ='Schools (alphabetically)'!C128 -> Central Fife
A24: Rimbleton PS PEP | B24: ='[1]Schools (alphabetically)'!B137 -> Kirsty Pert | C24: ='[1]Schools (alphabetically)'!C137 -> Central Fife
A25: Rimbleton PS/NS | B25: ='[1]Schools (alphabetically)'!B138 -> Kirsty Pert | C25: ='Schools (alphabetically)'!C138 -> Central Fife
A26: South Parks PS/NS & HI | B26: ='Schools (alphabetically)'!B143 -> Linden Hampton | C26: ='Schools (alphabetically)'!C143 -> Central Fife
A28: Glenwood High School Cluster
A29: Schools and Nurseries | B29: Psychologist | C29: Centre base
A30: Glenwood HS | B30: ='Schools (alphabetically)'!B75 -> Kirsty Pert/Chris Hamilton | C30: ='Schools (alphabetically)'!C75 -> Central Fife
A31: Collydean PS/NS | B31: ='[1]Schools (alphabetically)'!B46 -> Kayleigh Falls | C31: ='[1]Schools (alphabetically)'!C46 -> Central Fife
A32: Kinglassie PS/NS | B32: ='[1]Schools (alphabetically)'!B90 -> Kayleigh Falls | C32: ='[1]Schools (alphabetically)'!C90 -> Central Fife
A33: Leslie PS/NS | B33: ='[1]Schools (alphabetically)'!B100 -> Malcolm McGovern | C33: ='[1]Schools (alphabetically)'!C100 -> Central Fife
A34: Newcastle PS | B34: ='Schools (alphabetically)'!B121 -> Kayleigh Falls | C34: ='[1]Schools (alphabetically)'!C121 -> Central Fife
A35: Southwood PS/NS | B35: ='[1]Schools (alphabetically)'!B144 -> Aneith Thomas | C35: ='[1]Schools (alphabetically)'!C144 -> Central Fife
A37: KIRKCALDY LOCALITY
A38: Balwearie High School Cluster
A39: Schools and Nurseries | B39: Psychologist | C39: Centre base
A40: Balwearie HS | B40: ='[1]Schools (alphabetically)'!B14 -> Sam Hannay/Joanna Lawson | C40: ='Schools (alphabetically)'!C14 -> Central Fife
A41: Auchtertool PS | B41: ='[1]Schools (alphabetically)'!B10 -> Kirsty Pert | C41: ='[1]Schools (alphabetically)'!C10 -> Central Fife
A42: Burntisland PS/NS | B42: ='[1]Schools (alphabetically)'!B25 -> Joanna Lawson | C42: ='[1]Schools (alphabetically)'!C25 -> Central Fife
A43: Dunnikier PS/NS | B43: ='Schools (alphabetically)'!B63 -> Hannah Cutler | C43: ='[1]Schools (alphabetically)'!C63 -> Central Fife
A44: Kinghorn PS/NS | B44: ='[1]Schools (alphabetically)'!B89 -> Aneith Thomas | C44: ='[1]Schools (alphabetically)'!C89 -> Central Fife
...
