Workbook

Sheet Schools (alphabetically)
A1: FIFE COUNCIL EDUCATIONAL PSYCHOLOGY SERVICE
A2: SCHOOL PSYCHOLOGISTS 2026/27 (as at 07.10.26)
A4: Schools and Nurseries | B4: Psychologist | C4: Centre base
A5: Aberdour PS/NS | B5: Julie McGowan | C5: West Fife
A6: Aberhill PS | B6: Aileen Bracken | C6: North & East Fife
A7: Anstruther PS/NS | B7: Pippa San Roman | C7: North & East Fife
A8: Auchmuty HS | B8: Aneith Thomas/Malcolm McGovern | C8: Central Fife
A9: Auchtermuchty PS/NS | B9: Pippa San Roman | C9: North & East Fife
A10: Auchtertool PS | B10: Kirsty Pert | C10: Central Fife
A11: Balcurvie PS/NS | B11: Aodán Fullam | C11: North & East Fife
A12: Balmerino PS/NS | B12: Pippa San Roman | C12: North & East Fife
A13: Balmullo PS/NS | B13: Aileen Bracken | C13: North & East Fife
A14: Balwearie HS | B14: Sam Hannay/Joanna Lawson | C14: Central Fife
A15: Beanstalk FNC (Fergus Place) | B15: Claire Kerr | C15: West Fife
... A183: Wormit PS | B183: Pippa San Roman | C183: North & East Fife
A185: North & East Fife Team, County Buildings, St Catherine Street, Cupar, KY15 4TA
A186: Telephone No: 01334 659327/Internal 450586
A187: central.educationalpsychologists@fife.gov.uk
A188: Vivienne Sutherland | B188: Principal Psychologist
A189: Emma Jessiman | B189: Depute Principal Psychologist (Operations)
A190: Aileen Bracken | B190: Educational Psychologist
A191: Hannah Bunce | B191: Educational Psychologist
A192: Aodán Fullam | B192: Educational Psychologist
A193: Carys Murray | B193: Educational Psychologist
A194: Pippa San Roman | B194: Educational Psychologist
A195: Marilisa Scognamiglio | B195: Educational Psychologist
A196: Hope Thompson | B196: Educational Psychologist
A198: West Fife Team, King's Road Primary School, King's Crescent, Rosyth, KY11 2RS
A199: Telephone No: 01383 602379/Internal 490061
A200: dunfermline.educationalpsychologists@fife.gov.uk
A201: Adam Brown | B201: Depute Principal Psychologist (Strategy)
A202: Jane Messer | B202: Depute Principal Psychologist (Operations)
A203: Kirsty Frost | B203: Educational Psychologist
A204: Gwen Hobbs | B204: Educational Psychologist
A205: Anna-May Hocking | B205: Educational Psychologist
A206: Claire Kerr | B206: Educational Psychologist
A207: Julie McGowan | B207: Educational Psychologist
A208: Amy Martin | B208: Educational Psychologist
A209: Joanna Miller | B209: Educational Psychologist
A210: Maria Ogg | B210: Educational Psychologist
A211: Kelly Robertson | B211: Educational Psychologist
A212: Ceri Titley | B212: Educational Psychologist
A213: Debbie Ure | B213: Educational Psychologist
A215: Central Fife Team, 4th Floor West, Fife House, North Street, Glenrothes, KY7 5LT
A216: Telephone No: 01592 583348/Internal 442047
A217: central.educationalpsychologists@fife.gov.uk
A218: Malcolm McGovern | B218: Depute Principal Psychologist (Strategy)
A219: Morag Docherty | B219: Depute Principal Psychologist (Operations)
A220: Hannah Cutler | B220: Educational Psychologist
A221: Kayleigh Falls | B221: Educational Psychologist
A222: Chris Hamilton | B222: Educational Psychologist
A223: Linden Hampton | B223: Educational Psychologist
A224: Sam Hannay | B224: Educational Psychologist
A225: Joanna Lawson | B225: Educational Psychologist
A226: Kerry Mitchell | B226: Educational Psychologist
A227: Kirsty Pert | B227: Educational Psychologist
A228: Aneith Thomas | B228: Educational Psychologist

Sheet Schools by Cluster
A1: FIFE COUNCIL EDUCATIONAL PSYCHOLOGY SERVICE
A2: ='Schools (alphabetically)'!A2 -> SCHOOL PSYCHOLOGISTS 2026/27 (as at 07.10.26)
A4: GLENROTHES LOCALITY
A5: Auchmuty High School Cluster
A6: Schools and Nurseries | B6: Psychologist | C6: Centre base
A7: Auchmuty HS | B7: ='Schools (alphabetically)'!B8 -> Aneith Thomas/Malcolm McGovern | C7: ='Schools (alphabetically)'!C8 -> Central Fife
A8: Carleton & Ladybird FNC | B8: ='Schools (alphabetically)'!B34 -> Kirsty Pert | C8: ='Schools (alphabetically)'!C34 -> Central Fife
A9: Carleton PS | B9: ='Schools (alphabetically)'!B35 -> Chris Hamilton | C9: ='Schools (alphabetically)'!C35 -> Central Fife
A10: Coaltown of Balgonie PS | B10: ='Schools (alphabetically)'!B43 -> Kerry Mitchell | C10: ='Schools (alphabetically)'!C43 -> Central Fife
A11: John Fergus School | B11: ='Schools (alphabetically)'!B84 -> Kerry Mitchell | C11: ='Schools (alphabetically)'!C84 -> Central Fife
A12: Markinch PS/NS | B12: ='[1]Schools (alphabetically)'!B112 -> Kirsty Pert | C12: ='Schools (alphabetically)'!C112 -> Central Fife
A13: Pitteuchar East PS/NS | B13: ='[1]Schools (alphabetically)'!B133 -> Morag Docherty | C13: ='[1]Schools (alphabetically)'!C133 -> Central Fife
A14: Pitteuchar West PS/NS | B14: ='[1]Schools (alphabetically)'!B134 -> Joanna Lawson | C14: ='[1]Schools (alphabetically)'!C134 -> Central Fife
A15: Star PS | B15: ='[1]Schools (alphabetically)'!B163 -> Kerry Mitchell | C15: ='Schools (alphabetically)'!C163 -> Central Fife
A16: Thornton PS/NS | B16: ='[1]Schools (alphabetically)'!B169 -> Linden Hampton | C16: ='[1]Schools (alphabetically)'!C169 -> Central Fife
A17: Warout PS | B17: ='Schools (alphabetically)'!B180 -> Sam Hannay | C17: ='[1]Schools (alphabetically)'!C180 -> Central Fife
A19: Glenrothes High School Cluster
A20: Schools and Nurseries | B20: Psychologist | C20: Centre base
A21: Glenrothes HS | B21: ='Schools (alphabetically)'!B74 -> Kayleigh Falls/Morag Docherty | C21: ='[1]Schools (alphabetically)'!C74 -> Central Fife
A22: Caskieberran PS/NS | B22: ='Schools (alphabetically)'!B38 -> Kayleigh Falls | C22: ='[1]Schools (alphabetically)'!C38 -> Central Fife
A23: Pitcoudie PS/NS | B23: ='[1]Schools (alphabetically)'!B128 -> Kirsty Pert | C23: ='Schools (alphabetically)'!C128 -> Central Fife
A24: Rimbleton PS PEP | B24: ='[1]Schools (alphabetically)'!B137 -> Kirsty Pert | C24: ='[1]Schools (alphabetically)'!C137 -> Central Fife
A25: Rimbleton PS/NS | B25: ='[1]Schools (alphabetically)'!B138 -> Kirsty Pert | C25: ='Schools (alphabetically)'!C138 -> Central Fife
A26: South Parks PS/NS & HI | B26: ='Schools (alphabetically)'!B143 -> Linden Hampton | C26: ='Schools (alphabetically)'!C143 -> Central Fife
A28: Glenwood High School Cluster
A29: Schools and Nurseries | B29: Psychologist | C29: Centre base
A30: Glenwood HS | B30: ='Schools (alphabetically)'!B75 -> Kirsty Pert/Chris Hamilton | C30: ='Schools (alphabetically)'!C75 -> Central Fife
A31: Collydean PS/NS | B31: ='[1]Schools (alphabetically)'!B46 -> Kayleigh Falls | C31: ='[1]Schools (alphabetically)'!C46 -> Central Fife
A32: Kinglassie PS/NS | B32: ='[1]Schools (alphabetically)'!B90 -> Kayleigh Falls | C32: ='[1]Schools (alphabetically)'!C90 -> Central Fife
A33: Leslie PS/NS | B33: ='[1]Schools (alphabetically)'!B100 -> Malcolm McGovern | C33: ='[1]Schools (alphabetically)'!C100 -> Central Fife
A34: Newcastle PS | B34: ='Schools (alphabetically)'!B121 -> Kayleigh Falls | C34: ='[1]Schools (alphabetically)'!C121 -> Central Fife
A35: Southwood PS/NS | B35: ='[1]Schools (alphabetically)'!B144 -> Aneith Thomas | C35: ='[1]Schools (alphabetically)'!C144 -> Central Fife
A37: KIRKCALDY LOCALITY
A38: Balwearie High School Cluster
A39: Schools and Nurseries | B39: Psychologist | C39: Centre base
A40: Balwearie HS | B40: ='[1]Schools (alphabetically)'!B14 -> Sam Hannay/Joanna Lawson | C40: ='Schools (alphabetically)'!C14 -> Central Fife
A41: Auchtertool PS | B41: ='[1]Schools (alphabetically)'!B10 -> Kirsty Pert | C41: ='[1]Schools (alphabetically)'!C10 -> Central Fife
A42: Burntisland PS/NS | B42: ='[1]Schools (alphabetically)'!B25 -> Joanna Lawson | C42: ='[1]Schools (alphabetically)'!C25 -> Central Fife
A43: Dunnikier PS/NS | B43: ='Schools (alphabetically)'!B63 -> Hannah Cutler | C43: ='[1]Schools (alphabetically)'!C63 -> Central Fife
A44: Kinghorn PS/NS | B44: ='[1]Schools (alphabetically)'!B89 -> Aneith Thomas | C44: ='[1]Schools (alphabetically)'!C89 -> Central Fife
A45: Kirkcaldy West PS/NS | B45: ='Schools (alphabetically)'!B95 -> Chris Hamilton | C45: ='[1]Schools (alphabetically)'!C95 -> Central Fife
A46: Strathallan PS/NS & PEP | B46: ='Schools (alphabetically)'!B164 -> Kerry Mitchell | C46: ='[1]Schools (alphabetically)'!C164 -> Central Fife
A48: Kirkcaldy High School Cluster
A49: Schools and Nurseries | B49: Psychologist | C49: Centre base
A50: Kirkcaldy HS | B50: ='Schools (alphabetically)'!B93 -> Kayleigh Falls/Hannah Cutler | C50: ='[1]Schools (alphabetically)'!C93 -> Central Fife
A51: Capshard PS/NS | B51: ='Schools (alphabetically)'!B32 -> Kerry Mitchell | C51: ='Schools (alphabetically)'!C32 -> Central Fife
A52: Fair Isle FNC | B52: ='[1]Schools (alphabetically)'!B67 -> Sam Hannay | C52: ='[1]Schools (alphabetically)'!C67 -> Central Fife
A53: Fair Isle PS | B53: ='[1]Schools (alphabetically)'!B68 -> Kayleigh Falls | C53: ='Schools (alphabetically)'!C68 -> Central Fife
A54: Torbain PS/NS | B54: ='Schools (alphabetically)'!B170 -> Kerry Mitchell | C54: ='Schools (alphabetically)'!C170 -> Central Fife
A55: Valley PS/NS & PEP | B55: ='Schools (alphabetically)'!B176 -> Hannah Cutler | C55: ='Schools (alphabetically)'!C176 -> Central Fife
A57: St Andrew's RC High School Cluster
A58: Schools and Nurseries | B58: Psychologist | C58: Centre base
A59: St Andrews HS | B59: ='Schools (alphabetically)'!B148 -> Linden Hampton/Chris Hamilton | C59: ='[1]Schools (alphabetically)'!C148 -> Central Fife
A60: St Agatha's PS/NS | B60: ='Schools (alphabetically)'!B146 -> Aodán Fullam | C60: ='[1]Schools (alphabetically)'!C146 -> North & East Fife
A61: St Marie's PS/NS | B61: ='[1]Schools (alphabetically)'!B157 -> Chris Hamilton | C61: ='[1]Schools (alphabetically)'!C157 -> Central Fife
A62: St Ninian's PS | B62: ='[1]Schools (alphabetically)'!B159 -> Joanna Lawson | C62: ='[1]Schools (alphabetically)'!C159 -> Central Fife
A63: St Patrick's PS | B63: ='[1]Schools (alphabetically)'!B160 -> Kayleigh Falls | C63: ='Schools (alphabetically)'!C160 -> Central Fife
A64: St Paul's PS | B64: ='[1]Schools (alphabetically)'!B161 -> Chris Hamilton | C64: ='Schools (alphabetically)'!C161 -> Central Fife
A66: Viewforth High School Cluster
A67: Schools and Nurseries | B67: Psychologist | C67: Centre base
A68: Viewforth HS | B68: ='Schools (alphabetically)'!B177 -> Hannah Cutler/Kerry Mitchell | C68: ='Schools (alphabetically)'!C177 -> Central Fife
A69: Dysart PS/NS | B69: ='[1]Schools (alphabetically)'!B64 -> Linden Hampton | C69: ='[1]Schools (alphabetically)'!C64 -> Central Fife
A70: Gallatown FNC | B70: ='[1]Schools (alphabetically)'!B73 -> Sam Hannay | C70: ='[1]Schools (alphabetically)'!C73 -> Central Fife
A71: Kirkcaldy North PS/NS | B71: ='[1]Schools (alphabetically)'!B94 -> Kerry Mitchell | C71: ='[1]Schools (alphabetically)'!C94 -> Central Fife
A72: Pathhead PS/NS | B72: ='[1]Schools (alphabetically)'!B126 -> Hannah Cutler | C72: ='[1]Schools (alphabetically)'!C126 -> Central Fife
A73: Rosslyn School | B73: ='Schools (alphabetically)'!B139 -> Linden Hampton | C73: ='Schools (alphabetically)'!C139 -> Central Fife
A74: Sinclairtown PS | B74: ='Schools (alphabetically)'!B142 -> Linden Hampton | C74: ='Schools (alphabetically)'!C142 -> Central Fife
A76: NORTH EAST FIFE LOCALITY
A77: Bell Baxter High School Cluster
A78: Schools and Nurseries | B78: Psychologist | C78: Centre base
A79: Bell Baxter HS | B79: ='Schools (alphabetically)'!B18 -> Aileen Bracken/Hope Thompson/Aodán Fullam | C79: ='Schools (alphabetically)'!C18 -> North & East Fife
A80: Auchtermuchty PS/NS | B80: ='[1]Schools (alphabetically)'!B9 -> Pippa San Roman | C80: ='[1]Schools (alphabetically)'!C9 -> North & East Fife
A81: Balmullo PS/NS | B81: ='Schools (alphabetically)'!B13 -> Aileen Bracken | C81: ='[1]Schools (alphabetically)'!C13 -> North & East Fife
A82: Castlehill PS | B82: ='[1]Schools (alphabetically)'!B39 -> Aileen Bracken | C82: ='[1]Schools (alphabetically)'!C39 -> North & East Fife
A83: Castlehill PS PEP | B83: ='[1]Schools (alphabetically)'!B40 -> Aodán Fullam | C83: ='[1]Schools (alphabetically)'!C40 -> North & East Fife
A84: Ceres PS/NS | B84: ='[1]Schools (alphabetically)'!B41 -> Aodán Fullam | C84: ='Schools (alphabetically)'!C41 -> North & East Fife
A85: Craigrothie PS | B85: ='Schools (alphabetically)'!B49 -> Aodán Fullam | C85: ='Schools (alphabetically)'!C49 -> North & East Fife
A86: Dairsie PS | B86: ='[1]Schools (alphabetically)'!B54 -> Aodán Fullam | C86: ='Schools (alphabetically)'!C54 -> North & East Fife
A87: Dunbog PS | B87: ='[1]Schools (alphabetically)'!B60 -> Marilisa Scognamiglio | C87: ='[1]Schools (alphabetically)'!C60 -> North & East Fife
A88: Falkland PS/NS | B88: ='[1]Schools (alphabetically)'!B69 -> Emma Jessiman | C88: ='Schools (alphabetically)'!C69 -> North & East Fife
A89: Freuchie PS/NS | B89: ='Schools (alphabetically)'!B72 -> Emma Jessiman | C89: ='Schools (alphabetically)'!C72 -> North & East Fife
A90: Kettle PS/NS | B90: ='[1]Schools (alphabetically)'!B87 -> Hope Thompson | C90: ='Schools (alphabetically)'!C87 -> North & East Fife
A91: Kilmaron School | B91: ='[1]Schools (alphabetically)'!B88 -> Marilisa Scognamiglio | C91: ='Schools (alphabetically)'!C88 -> North & East Fife
A92: Ladybank PS/NS | B92: ='Schools (alphabetically)'!B97 -> Hope Thompson | C92: ='[1]Schools (alphabetically)'!C97 -> North & East Fife
A93: Letham PS | B93: ='[1]Schools (alphabetically)'!B101 -> Marilisa Scognamiglio | C93: ='[1]Schools (alphabetically)'!C101 -> North & East Fife
A94: Newburgh PS/NS | B94: ='Schools (alphabetically)'!B120 -> Marilisa Scognamiglio | C94: ='[1]Schools (alphabetically)'!C120 -> North & East Fife
A95: Pitlessie PS | B95: ='Schools (alphabetically)'!B129 -> Hope Thompson | C95: ='[1]Schools (alphabetically)'!C129 -> North & East Fife
A96: Springfield PS/NS | B96: ='Schools (alphabetically)'!B145 -> Marilisa Scognamiglio | C96: ='[1]Schools (alphabetically)'!C145 -> North & East Fife
A97: St Columba's PS | B97: ='[1]Schools (alphabetically)'!B151 -> Pippa San Roman | C97: ='Schools (alphabetically)'!C151 -> North & East Fife
A98: Strathmiglo PS/NS | B98: ='[1]Schools (alphabetically)'!B166 -> Pippa San Roman | C98: ='[1]Schools (alphabetically)'!C166 -> North & East Fife
A99: Westfield FNC | B99: ='Schools (alphabetically)'!B147 -> Aileen Bracken | C99: ='Schools (alphabetically)'!C147 -> North & East Fife
A101: Madras College Cluster
A102: Schools and Nurseries | B102: Psychologist | C102: Centre base
A103: Madras College | B103: ='Schools (alphabetically)'!B111 -> Carys Murray/Marilisa Scognamiglio | C103: ='Schools (alphabetically)'!C111 -> North & East Fife
A104: Balmerino PS/NS | B104: ='[1]Schools (alphabetically)'!B12 -> Pippa San Roman | C104: ='[1]Schools (alphabetically)'!C12 -> North & East Fife
A105: Canongate PS/NS & PEP | B105: ='[1]Schools (alphabetically)'!B31 -> Carys Murray | C105: ='[1]Schools (alphabetically)'!C31 -> North & East Fife
A106: Ferryport NS | B106: ='[1]Schools (alphabetically)'!B70 -> Carys Murray | C106: ='[1]Schools (alphabetically)'!C70 -> North & East Fife
A107: Greyfriars PS | B107: ='Schools (alphabetically)'!B76 -> Aodán Fullam | C107: ='[1]Schools (alphabetically)'!C76 -> North & East Fife
A108: Guardbridge PS | B108: ='Schools (alphabetically)'!B77 -> Carys Murray | C108: ='Schools (alphabetically)'!C77 -> North & East Fife
A109: Kingsbarns PS/NS | B109: ='[1]Schools (alphabetically)'!B92 -> Carys Murray | C109: ='[1]Schools (alphabetically)'!C92 -> North & East Fife
...
